BEGIN:VCALENDAR
VERSION:2.0
PRODID:-//Cybercolors - ECPv4.6.1//NONSGML v1.0//EN
CALSCALE:GREGORIAN
METHOD:PUBLISH
X-WR-CALNAME:Cybercolors
X-ORIGINAL-URL:http://cybercolors.ie
X-WR-CALDESC:Events for Cybercolors
BEGIN:VEVENT
DTSTART;VALUE=DATE:20170925
DTEND;VALUE=DATE:20170930
DTSTAMP:20171024T033556
CREATED:20170508T154044Z
LAST-MODIFIED:20170509T110130Z
UID:1777-1506297600-1506729599@cybercolors.ie
SUMMARY:Supply Side West
DESCRIPTION:
URL:http://cybercolors.ie/event/supply-side-west/
LOCATION:Mandalay Bay\, Las Vegas\, United States
ATTACH;FMTTYPE=image/jpeg:http://cybercolors.ie/wp-content/uploads/2017/05/Suppy-Side-Banner.jpg
END:VEVENT
END:VCALENDAR